BEGIN:VCALENDAR
VERSION:2.0
PRODID:-//AMISTAD-PIR - ECPv6.15.14//NONSGML v1.0//EN
CALSCALE:GREGORIAN
METHOD:PUBLISH
X-WR-CALNAME:AMISTAD-PIR
X-ORIGINAL-URL:http://amistad-pir.ca
X-WR-CALDESC:Événements pour AMISTAD-PIR
REFRESH-INTERVAL;VALUE=DURATION:PT1H
X-Robots-Tag:noindex
X-PUBLISHED-TTL:PT1H
BEGIN:VTIMEZONE
TZID:America/New_York
BEGIN:DAYLIGHT
TZOFFSETFROM:-0500
TZOFFSETTO:-0400
TZNAME:EDT
DTSTART:20230312T070000
END:DAYLIGHT
BEGIN:STANDARD
TZOFFSETFROM:-0400
TZOFFSETTO:-0500
TZNAME:EST
DTSTART:20231105T060000
END:STANDARD
BEGIN:DAYLIGHT
TZOFFSETFROM:-0500
TZOFFSETTO:-0400
TZNAME:EDT
DTSTART:20240310T070000
END:DAYLIGHT
BEGIN:STANDARD
TZOFFSETFROM:-0400
TZOFFSETTO:-0500
TZNAME:EST
DTSTART:20241103T060000
END:STANDARD
BEGIN:DAYLIGHT
TZOFFSETFROM:-0500
TZOFFSETTO:-0400
TZNAME:EDT
DTSTART:20250309T070000
END:DAYLIGHT
BEGIN:STANDARD
TZOFFSETFROM:-0400
TZOFFSETTO:-0500
TZNAME:EST
DTSTART:20251102T060000
END:STANDARD
END:VTIMEZONE
BEGIN:VEVENT
DTSTART;TZID=America/New_York:20240914T133000
DTEND;TZID=America/New_York:20240914T190000
DTSTAMP:20260421T072345
CREATED:20240816T200856Z
LAST-MODIFIED:20240816T200856Z
UID:649-1726320600-1726340400@amistad-pir.ca
SUMMARY:Spin for freedom
DESCRIPTION:Socials \n								 \n								 \n								 \n								 \n								 \n								\n				\n				\n			\n			\n \n  \nLe défi SPIN FOR FREEDOM est l’occasion pour toi de soutenir les activités de l’organisme Amistad: Prévention-Intervention-Réhabilitation. Grâce à ton don\, nous serons en mesure de lutter contre la traite des êtres humains pour changer une vie à la fois et les sociétés dans leur ensemble. \nPlus précisément\, ce montant nous permettra: \n-D’équiper des intervenant.es sur la problématique de la traite humaine; \n-De sensibiliser les groupes à risque; \n-D’offrir de l’accompagnement psychosocial aux personnes survivantes; \n-D’offrir des denrées alimentaires aux personnes victimes de ce fléau. \n-Et plus encore! \nInformations: \nDate: Samedi 14 septembre 2024 \nHeures du défi: 13h30 à 16h00 (un buffet sera servi après le défi) \nLieu: YMCA Cartierville\, 11885 Blvd. Laurentien\, Montréal\, QC\, H4J 2R5 \nÀ quoi s’attendre lors de l’événement: \n-Ambiance festive et dynamique \n-Des défis sportifs \n-Animation pour enfants \n-Vente de marchandise \n-Buffet
URL:http://amistad-pir.ca/program/spin-for-freedom/
END:VEVENT
END:VCALENDAR